BEGIN:VCALENDAR
VERSION:2.0
PRODID:-//ChamberMaster//Event Calendar 2.0//EN
METHOD:PUBLISH
X-PUBLISHED-TTL:P3D
REFRESH-INTERVAL:P3D
CALSCALE:GREGORIAN
BEGIN:VEVENT
DTSTART:20210626T160000Z
DTEND:20210626T210000Z
X-MICROSOFT-CDO-ALLDAYEVENT:FALSE
SUMMARY:Miss Jamboree Pageants
DESCRIPTION:The 2021 Miss Jamboree Pageants are set for Saturday\, June 26 at the DeKalb County Complex starting at 11:00 a.m. sponsored by the Smithville Business and Professional Women's Club and Ascension Saint Thomas DeKalb Hospital. All Tennessee girls\, babies\, and toddlers may enter by June 18th. A People's Choice Award will also be given in each category and there are optional awards of prettiest eyes\, hair\, attire\, and photogenic. All winners in the 11-13\, 14-16\, and 17-20 are required to be present during the Fiddlers Jamboree July 2 & 3 to help distribute trophies\, flyers\, etc. Age groups are as follows: Boys and girls- one day to 6 months Boys and girls- 7-12 months Boys and girls-13-24 months Boys and girls-25-48 months Girls-4-6 years Girls-7-10 years Girls-11-13 years Girls- 14-16 years Girls-17-20 years Include on the entry form\, name and age of contestant\, complete address and phone number\, parents or guardians names\, and note "I love the Jamboree Because". Mail completed entry form and fees to Angie Meadows\, 3385 New Home Road\, Smithville 37166. Make checks payable to the Smithville Business & Professional Women's Club
X-ALT-DESC;FMTTYPE=text/html:The 2021 Miss Jamboree Pageants are set for Saturday\, June 26 at the DeKalb County Complex starting at 11:00 a.m. sponsored by the Smithville Business and Professional Women&rsquo\;s Club and Ascension Saint Thomas DeKalb Hospital. All Tennessee girls\, babies\, and toddlers may enter by June 18th. A People&rsquo\;s Choice Award will also be given in each category and there are optional awards of prettiest eyes\, hair\, attire\, and photogenic. All winners in the 11-13\, 14-16\, and 17-20 are required to be present during the Fiddlers Jamboree July 2 &amp\; 3 to help distribute trophies\, flyers\, etc. Age groups are as follows: Boys and girls- one day to 6 months Boys and girls- 7-12 months Boys and girls-13-24 months Boys and girls-25-48 months Girls-4-6 years Girls-7-10 years Girls-11-13 years Girls- 14-16 years Girls-17-20 years Include on the entry form\, name and age of contestant\, complete address and phone number\, parents or guardians names\, and note &ldquo\;I love the Jamboree Because&rdquo\;. Mail completed entry form and fees to Angie Meadows\, 3385 New Home Road\, Smithville 37166. Make checks payable to the Smithville Business &amp\; Professional Women&rsquo\;s Club
LOCATION:Dekalb County Complex
UID:e.3177.147
SEQUENCE:3
DTSTAMP:20260420T130206Z
URL:http://dekalbtn.chambermaster.com/events/details/miss-jamboree-pageants-147
END:VEVENT

END:VCALENDAR
